
BEGIN:VCALENDAR
VERSION:2.0
PRODID:-//HID Calendar//EN
BEGIN:VEVENT
UID:69e824a783e29
DTSTAMP:20260422T013015Z
DTSTART:20260203T170000
DTEND:20260203T183000
SUMMARY:Pathway to a Swedish Medical Licence
DESCRIPTION:
LOCATION:Mindpark\, Bredgatan 11\, Helsingborg\, Mindpark\, Bredgatan 11\, Helsingborg\, Helsingborg
END:VEVENT
END:VCALENDAR