
BEGIN:VCALENDAR
VERSION:2.0
PRODID:-//HID Calendar Feed//EN
CALSCALE:GREGORIAN
METHOD:PUBLISH
BEGIN:VEVENT
UID:event-9952-0@helsingborginnovationdistrict.com
DTSTAMP:20260425T111611Z
DTSTART:20260303T113000
DTEND:20260303T130000
SUMMARY:HID Community Lunch
DESCRIPTION:
LOCATION:Parken: center for innovation\, Henckels torg 3\, Helsingborg
END:VEVENT
END:VCALENDAR