
BEGIN:VCALENDAR
VERSION:2.0
PRODID:-//HID Calendar//EN
BEGIN:VEVENT
UID:69eca2d3263ec
DTSTAMP:20260425T111739Z
DTSTART:20251204T113000
DTEND:20251204T130000
SUMMARY:HID Community Lunch
DESCRIPTION:
LOCATION:Mindpark\, Bredgatan 11\, Helsingborg
END:VEVENT
END:VCALENDAR