
BEGIN:VCALENDAR
VERSION:2.0
PRODID:-//HID Calendar//EN
BEGIN:VEVENT
UID:69e4df5a88b76
DTSTAMP:20260419T135746Z
DTSTART:20251211T083000
DTEND:20251211T120000
SUMMARY:Helsingborg Vision 2035: From Global Trend to Local Strategy – with Niklas Madsen
DESCRIPTION:
LOCATION:Parken- Center för innovation\, Henckels torg 3\, Helsingborg
END:VEVENT
END:VCALENDAR