
BEGIN:VCALENDAR
VERSION:2.0
PRODID:-//HID Calendar//EN
BEGIN:VEVENT
UID:69e810a9e20b3
DTSTAMP:20260422T000457Z
DTSTART:20251014T173000
DTEND:20251014T194500
SUMMARY:Intercultural Competence: Key to Connecting People Across Cultures
DESCRIPTION:
LOCATION:Mindpark\, Bredgatan 11\, Helsingborg
END:VEVENT
END:VCALENDAR