
BEGIN:VCALENDAR
VERSION:2.0
PRODID:-//HID Calendar Feed//EN
CALSCALE:GREGORIAN
METHOD:PUBLISH
BEGIN:VEVENT
UID:event-9632-0@helsingborginnovationdistrict.com
DTSTAMP:20260422T055125Z
DTSTART:20250613T093000
DTEND:20250613T110000
SUMMARY:HIC Coffee Morning
DESCRIPTION:
LOCATION:Bruket Kaffebar\, Bruksgatan 9\, Helsingborg\, Helsingborg
END:VEVENT
END:VCALENDAR