
BEGIN:VCALENDAR
VERSION:2.0
PRODID:-//HID Calendar//EN
BEGIN:VEVENT
UID:69e860d8c51f7
DTSTAMP:20260422T054704Z
DTSTART:20250520T163000
DTEND:20250520T183000
SUMMARY:How to Apply for a Job in Sweden
DESCRIPTION:
LOCATION:Mindpark cafe.\, Mindpark\, Bredgatan 11\, Helsingborg\, Helsingborg
END:VEVENT
END:VCALENDAR