
BEGIN:VCALENDAR
VERSION:2.0
PRODID:-//HID Calendar Feed//EN
CALSCALE:GREGORIAN
METHOD:PUBLISH
BEGIN:VEVENT
UID:event-9542-0@helsingborginnovationdistrict.com
DTSTAMP:20260422T055007Z
DTSTART:20250520T083000
DTEND:20250520T100000
SUMMARY:Future of Retail Breakfast - Business mindset for running a company
DESCRIPTION:
LOCATION:In person\, Bredgatan 11\, Helsingborg
END:VEVENT
END:VCALENDAR