
BEGIN:VCALENDAR
VERSION:2.0
PRODID:-//HID Calendar//EN
BEGIN:VEVENT
UID:69e861480c106
DTSTAMP:20260422T054856Z
DTSTART:20250520T083000
DTEND:20250520T100000
SUMMARY:Future of Retail Breakfast &#8211; Business mindset for running a company
DESCRIPTION:
LOCATION:In person\, Bredgatan 11\, Helsingborg
END:VEVENT
END:VCALENDAR