
BEGIN:VCALENDAR
VERSION:2.0
PRODID:-//HID Calendar//EN
BEGIN:VEVENT
UID:69e7371c84f6d
DTSTAMP:20260421T083644Z
DTSTART:20250509T080000
DTEND:20250509T090000
SUMMARY:A Conversation with Rickard Lyko – Building a Leading E-commerce Brand
DESCRIPTION:
LOCATION:Digital\, Vasatorpsvägen 1D\, Helsingborg
END:VEVENT
END:VCALENDAR