
BEGIN:VCALENDAR
VERSION:2.0
PRODID:-//HID Calendar//EN
BEGIN:VEVENT
UID:69e7374e14478
DTSTAMP:20260421T083734Z
DTSTART:20250509T090000
DTEND:20250509T120000
SUMMARY:Workshop &#8220;Routines and planning process for water&#8221;
DESCRIPTION:
LOCATION:RecoLab\, Atlantgatan 8\, Helsingborg
END:VEVENT
END:VCALENDAR