
BEGIN:VCALENDAR
VERSION:2.0
PRODID:-//HID Calendar Feed//EN
CALSCALE:GREGORIAN
METHOD:PUBLISH
BEGIN:VEVENT
UID:event-9318-0@helsingborginnovationdistrict.com
DTSTAMP:20260421T083319Z
DTSTART:20250509T080000
DTEND:20250509T100000
SUMMARY:HETCH Community Breakfast
DESCRIPTION:
LOCATION:HETCH\, Redaregatan 48\, Helsingborg
END:VEVENT
END:VCALENDAR