
BEGIN:VCALENDAR
VERSION:2.0
PRODID:-//HID Calendar Feed//EN
CALSCALE:GREGORIAN
METHOD:PUBLISH
BEGIN:VEVENT
UID:event-9316-0@helsingborginnovationdistrict.com
DTSTAMP:20260421T083222Z
DTSTART:20250508T170000
DTEND:20250508T220000
SUMMARY:HETCH Community AW
DESCRIPTION:
LOCATION:HETCH\, Redaregatan 48\, Helsingborg
END:VEVENT
END:VCALENDAR