
BEGIN:VCALENDAR
VERSION:2.0
PRODID:-//HID Calendar//EN
BEGIN:VEVENT
UID:69e4c9bb200a8
DTSTAMP:20260419T122531Z
DTSTART:20250509T093000
DTEND:20250509T120000
SUMMARY:From Buzz to Business – How to Get Started with AI and Agentic AI
DESCRIPTION:
LOCATION:Trappan på HETCH\, Oceanhamnen\, Henckels torg\, Helsingborg
END:VEVENT
END:VCALENDAR