
BEGIN:VCALENDAR
VERSION:2.0
PRODID:-//HID Calendar Feed//EN
CALSCALE:GREGORIAN
METHOD:PUBLISH
BEGIN:VEVENT
UID:event-9227-0@helsingborginnovationdistrict.com
DTSTAMP:20260419T122424Z
DTSTART:20250505T090000
DTEND:20250505T103000
SUMMARY:Community Breakfast (Invite only)
DESCRIPTION:
LOCATION:Parken\, center för innovation\, Henckels torg 3\, Helsingborg
END:VEVENT
END:VCALENDAR