
BEGIN:VCALENDAR
VERSION:2.0
PRODID:-//HID Calendar Feed//EN
CALSCALE:GREGORIAN
METHOD:PUBLISH
BEGIN:VEVENT
UID:event-9068-0@helsingborginnovationdistrict.com
DTSTAMP:20260419T191140Z
DTSTART:20250506T083000
DTEND:20250506T140000
SUMMARY:Green Innovation Camp - LIFE GreenMe5
DESCRIPTION:
LOCATION:Parken\, Henckels torg 3 in Oceanhamnen\, Helsingborg
END:VEVENT
END:VCALENDAR