
BEGIN:VCALENDAR
VERSION:2.0
PRODID:-//HID Calendar//EN
BEGIN:VEVENT
UID:69e51788ae5da
DTSTAMP:20260419T175728Z
DTSTART:20250506T083000
DTEND:20250506T140000
SUMMARY:Green Innovation Camp &#8211; LIFE GreenMe5
DESCRIPTION:
LOCATION:Parken\, Henckels torg 3 in Oceanhamnen\, Helsingborg
END:VEVENT
END:VCALENDAR