
BEGIN:VCALENDAR
VERSION:2.0
PRODID:-//HID Calendar Feed//EN
CALSCALE:GREGORIAN
METHOD:PUBLISH
BEGIN:VEVENT
UID:event-9057-0@helsingborginnovationdistrict.com
DTSTAMP:20260422T031018Z
DTSTART:20250424T130000
DTEND:20250425T180000
SUMMARY:MindLab
DESCRIPTION:
LOCATION:Mindpark Helsingborg\, Bredgatan 11\, Helsingborg
END:VEVENT
END:VCALENDAR