
BEGIN:VCALENDAR
VERSION:2.0
PRODID:-//HID Calendar//EN
BEGIN:VEVENT
UID:69e737a967184
DTSTAMP:20260421T083905Z
DTSTART:20250505T110000
DTEND:20250505T120000
SUMMARY:Smart Cities as Spatial Manifestations of 21st-Century Capitalism
DESCRIPTION:
LOCATION:Parken\, Henckels Torg 3\, Helsingborg
END:VEVENT
END:VCALENDAR