
BEGIN:VCALENDAR
VERSION:2.0
PRODID:-//HID Calendar Feed//EN
CALSCALE:GREGORIAN
METHOD:PUBLISH
BEGIN:VEVENT
UID:event-8953-0@helsingborginnovationdistrict.com
DTSTAMP:20260422T013003Z
DTSTART:20250409T133000
DTEND:20250409T143000
SUMMARY:Perspektiv 25: Human Behaviour in emergencies
DESCRIPTION:
LOCATION:Campus Helsingborg\, U203\, Universitetsplatsen 2\, Helsingborg
END:VEVENT
END:VCALENDAR