
BEGIN:VCALENDAR
VERSION:2.0
PRODID:-//HID Calendar Feed//EN
CALSCALE:GREGORIAN
METHOD:PUBLISH
BEGIN:VEVENT
UID:event-8919-0@helsingborginnovationdistrict.com
DTSTAMP:20260422T013321Z
DTSTART:20250225T083000
DTEND:20250225T100000
SUMMARY:Future Retail Breakfast & Mastering Instagram Ads with Vimal Palwankar
DESCRIPTION:
LOCATION:Bredgatan 11\, Mindpark Fabriken\, Helsingborg\, Bredgatan 11\,\, Helsingborg
END:VEVENT
END:VCALENDAR