
BEGIN:VCALENDAR
VERSION:2.0
PRODID:-//HID Calendar//EN
BEGIN:VEVENT
UID:69e825ac4ce09
DTSTAMP:20260422T013436Z
DTSTART:20250225T083000
DTEND:20250225T100000
SUMMARY:Future Retail Breakfast &amp; Mastering Instagram Ads with Vimal Palwankar
DESCRIPTION:
LOCATION:Bredgatan 11\, Mindpark Fabriken\, Helsingborg\, Bredgatan 11\,\, Helsingborg
END:VEVENT
END:VCALENDAR