
BEGIN:VCALENDAR
VERSION:2.0
PRODID:-//HID Calendar//EN
BEGIN:VEVENT
UID:69e822f4bd2ff
DTSTAMP:20260422T012300Z
DTSTART:20250404T093000
DTEND:20250404T110000
SUMMARY:HIC Coffee Morning
DESCRIPTION:
LOCATION:Bruket Kaffebar\, Bruksgatan 9\, Helsingborg
END:VEVENT
END:VCALENDAR