
BEGIN:VCALENDAR
VERSION:2.0
PRODID:-//HID Calendar Feed//EN
CALSCALE:GREGORIAN
METHOD:PUBLISH
BEGIN:VEVENT
UID:event-8901-0@helsingborginnovationdistrict.com
DTSTAMP:20260422T012851Z
DTSTART:20250326T170000
DTEND:20250326T183000
SUMMARY:After Work Coffee
DESCRIPTION:
LOCATION:Bruket Kaffebar\, Bruksgatan 9\, Helsingborg
END:VEVENT
END:VCALENDAR