
BEGIN:VCALENDAR
VERSION:2.0
PRODID:-//HID Calendar Feed//EN
CALSCALE:GREGORIAN
METHOD:PUBLISH
BEGIN:VEVENT
UID:event-8898-0@helsingborginnovationdistrict.com
DTSTAMP:20260422T013609Z
DTSTART:20250321T190000
DTEND:20250321T220000
SUMMARY:HIC Pub Night
DESCRIPTION:
LOCATION:Elite Hotel Marina Plaza\, 6 Kungstorget\, Helsingborg
END:VEVENT
END:VCALENDAR