
BEGIN:VCALENDAR
VERSION:2.0
PRODID:-//HID Calendar//EN
BEGIN:VEVENT
UID:69ec9f65ab8da
DTSTAMP:20260425T110301Z
DTSTART:20250211T083000
DTEND:20250211T100000
SUMMARY:Future Retail Breakfasts
DESCRIPTION:
LOCATION:Fabriken1891 Helsingborg\, Bredgatan 11\, Helsingborg
END:VEVENT
END:VCALENDAR