
BEGIN:VCALENDAR
VERSION:2.0
PRODID:-//HID Calendar Feed//EN
CALSCALE:GREGORIAN
METHOD:PUBLISH
BEGIN:VEVENT
UID:event-10048-0@helsingborginnovationdistrict.com
DTSTAMP:20260422T000128Z
DTSTART:20260414T170000
DTEND:20260414T193000
SUMMARY:Entrepreneurship Evening
DESCRIPTION:
LOCATION:Parken: center för innovation\, Henckels torg 3\, Oceanhamnen\,\, Helsingborg
END:VEVENT
END:VCALENDAR